BEGIN:VCALENDAR
VERSION:2.0
PRODID:-//eventon.com NONSGML v1.0//EN
BEGIN:VEVENT
UID:69e73584a8d9c
DTSTAMP:20260421T102956
DTSTART:20191201T090000Z
DTEND:20191201T110000Z
LOCATION:
SUMMARY:Story Time - conte en anglès
DESCRIPTION: El Club Nàutic el Masnou i Kids&Us us conviden a l'hora del conte en anglès. STORY TIME Under the sea Diumenge 1 de desembre a les 11 hores Base Nàutica Port Esportiu del Masnou Vine a viure l'aventura d'un nen que troba una moneda antiga procedent d'un vaixell pirata enfonsat[..]
END:VEVENT
END:VCALENDAR