BEGIN:VCALENDAR
VERSION:2.0
PRODID:-//eventon.com NONSGML v1.0//EN
BEGIN:VEVENT
UID:69e5d258a273e
DTSTAMP:20260420T091432
DTSTART:20190824T070000Z
DTEND:20190824T110000Z
LOCATION:Club Nàutic El Masnou C/ Passeig Marítim\,  s/n
SUMMARY:WHITE PARTY - Nit de Blanc
DESCRIPTION: 24 d’agost\,  a partir de les 21h Benvinguda amb Ron Cremat i  Havaneres Sopar\,  Música\,  DJ i Ball al Club Nàutic El Masnou Preu: 25€ Adult\,  15€ Infantil Menú Adult: 1rs: Gaspatxo Síndria o Amanida Arròs 2ns: Lluç amb Samfaina o Roast Beff Postres\,  Vi i AiguA Actuació: Dj Quinito[..]
END:VEVENT
END:VCALENDAR